BEGIN:VCALENDAR
VERSION:2.0
PRODID:-//South Tynedale Railway - ECPv6.15.20//NONSGML v1.0//EN
CALSCALE:GREGORIAN
METHOD:PUBLISH
X-WR-CALNAME:South Tynedale Railway
X-ORIGINAL-URL:https://www.south-tynedale-railway.org.uk
X-WR-CALDESC:Events for South Tynedale Railway
REFRESH-INTERVAL;VALUE=DURATION:PT1H
X-Robots-Tag:noindex
X-PUBLISHED-TTL:PT1H
BEGIN:VTIMEZONE
TZID:Europe/London
BEGIN:DAYLIGHT
TZOFFSETFROM:+0000
TZOFFSETTO:+0100
TZNAME:BST
DTSTART:20240331T010000
END:DAYLIGHT
BEGIN:STANDARD
TZOFFSETFROM:+0100
TZOFFSETTO:+0000
TZNAME:GMT
DTSTART:20241027T010000
END:STANDARD
BEGIN:DAYLIGHT
TZOFFSETFROM:+0000
TZOFFSETTO:+0100
TZNAME:BST
DTSTART:20250330T010000
END:DAYLIGHT
BEGIN:STANDARD
TZOFFSETFROM:+0100
TZOFFSETTO:+0000
TZNAME:GMT
DTSTART:20251026T010000
END:STANDARD
BEGIN:DAYLIGHT
TZOFFSETFROM:+0000
TZOFFSETTO:+0100
TZNAME:BST
DTSTART:20260329T010000
END:DAYLIGHT
BEGIN:STANDARD
TZOFFSETFROM:+0100
TZOFFSETTO:+0000
TZNAME:GMT
DTSTART:20261025T010000
END:STANDARD
END:VTIMEZONE
BEGIN:VEVENT
DTSTART;TZID=Europe/London:20250730T103000
DTEND;TZID=Europe/London:20250730T120500
DTSTAMP:20260420T143148
CREATED:20250705T142347Z
LAST-MODIFIED:20250718T093737Z
UID:10001047-1753871400-1753877100@www.south-tynedale-railway.org.uk
SUMMARY:Wednesday 30 July 2025 - 10.30
DESCRIPTION:Road Closure and Diversions \nPlease allow extra time for your journey. The A 689 is closed beyond Kirkhaugh. The A69/A686 approach from Haydon Bridge/Hexham is open. The A689 from Weardale is open with diversions in place. \nhttps://www.westmorlandandfurness.gov.uk/parking-streets-and-transport/streets-roads-and-pavements/road-maintenance-closures-and-improvements/roadworks \nHeritage Railway Association\, Rail Riders or STRPS membersTickets for members of the Heritage Railway Association\, Rail Riders or STRPS members may be obtained from the ticket office\, on the day of travel. Please note these may not be valid on special events. Please check before travel. \nTrain Times \n\n\n\nALSTON DEPART\n10:30\n13:00\n15:00\n\n\nKIRKHAUGH\n10:45\n13:15\n15:15\n\n\nLINTLEY\n10:53\n13:23\n15:23\n\n\nSLAGGYFORD ARRIVE\n11:05\n13:35\n15:35\n\n\n\n\n\n\n\n\nSLAGGYFORD DEPART\n11:30\n14:00\n16:00\n\n\nLINTLEY\n11:42\n14:12\n16:12\n\n\nKIRKHAUGH\n11:50\n14:20\n16:20\n\n\nALSTON ARRIVE\n12:05\n14:35\n16:35\n\n\n\nDog tickets\nDogs are welcome on all of our trains and travel free of charge. if you would like a dog ticket\, please collect one from the ticket office. \nBringing your Bicycle\nWe are happy to carry bicycles on the train where space allows.[ \nOur Terms and Conditions\nPlease click on the link for our Terms and conditions
URL:https://www.south-tynedale-railway.org.uk/event/wednesday-30-july-2025-10-30/
LOCATION:Alston\, The Railway Station\, Alston\, Cumbria\, CA9 3JB\, United Kingdom
CATEGORIES:Dinosaur Day,Special Service
ATTACH;FMTTYPE=image/jpeg:https://www.south-tynedale-railway.org.uk/wp-content/uploads/2025/07/2.jpg
END:VEVENT
BEGIN:VEVENT
DTSTART;TZID=Europe/London:20250730T130000
DTEND;TZID=Europe/London:20250730T143500
DTSTAMP:20260420T143148
CREATED:20250705T142348Z
LAST-MODIFIED:20250718T093819Z
UID:10001048-1753880400-1753886100@www.south-tynedale-railway.org.uk
SUMMARY:Wednesday 30 July 2025 - 13.00
DESCRIPTION:Road Closure and Diversions \nPlease allow extra time for your journey. The A 689 is closed beyond Kirkhaugh. The A69/A686 approach from Haydon Bridge/Hexham is open. The A689 from Weardale is open with diversions in place. \nhttps://www.westmorlandandfurness.gov.uk/parking-streets-and-transport/streets-roads-and-pavements/road-maintenance-closures-and-improvements/roadworks \nHeritage Railway Association\, Rail Riders or STRPS membersTickets for members of the Heritage Railway Association\, Rail Riders or STRPS members may be obtained from the ticket office\, on the day of travel. Please note these may not be valid on special events. Please check before travel. \nTrain Times \n\n\n\nALSTON DEPART\n10:30\n13:00\n15:00\n\n\nKIRKHAUGH\n10:45\n13:15\n15:15\n\n\nLINTLEY\n10:53\n13:23\n15:23\n\n\nSLAGGYFORD ARRIVE\n11:05\n13:35\n15:35\n\n\n\n\n\n\n\n\nSLAGGYFORD DEPART\n11:30\n14:00\n16:00\n\n\nLINTLEY\n11:42\n14:12\n16:12\n\n\nKIRKHAUGH\n11:50\n14:20\n16:20\n\n\nALSTON ARRIVE\n12:05\n14:35\n16:35\n\n\n\nDog tickets\nDogs are welcome on all of our trains and travel free of charge. if you would like a dog ticket\, please collect one from the ticket office. \nBringing your Bicycle\nWe are happy to carry bicycles on the train where space allows.[ \nOur Terms and Conditions\nPlease click on the link for our Terms and conditions
URL:https://www.south-tynedale-railway.org.uk/event/wednesday-30-july-2025-13-00/
LOCATION:Alston\, The Railway Station\, Alston\, Cumbria\, CA9 3JB\, United Kingdom
CATEGORIES:Dinosaur Day,Special Service
ATTACH;FMTTYPE=image/jpeg:https://www.south-tynedale-railway.org.uk/wp-content/uploads/2025/07/2.jpg
END:VEVENT
BEGIN:VEVENT
DTSTART;TZID=Europe/London:20250730T150000
DTEND;TZID=Europe/London:20250730T163500
DTSTAMP:20260420T143148
CREATED:20250705T142348Z
LAST-MODIFIED:20250718T093849Z
UID:10001049-1753887600-1753893300@www.south-tynedale-railway.org.uk
SUMMARY:Wednesday 30 July 2025 - 15.00
DESCRIPTION:Road Closure and Diversions \nPlease allow extra time for your journey. The A 689 is closed beyond Kirkhaugh. The A69/A686 approach from Haydon Bridge/Hexham is open. The A689 from Weardale is open with diversions in place. \nhttps://www.westmorlandandfurness.gov.uk/parking-streets-and-transport/streets-roads-and-pavements/road-maintenance-closures-and-improvements/roadworks \nHeritage Railway Association\, Rail Riders or STRPS membersTickets for members of the Heritage Railway Association\, Rail Riders or STRPS members may be obtained from the ticket office\, on the day of travel. Please note these may not be valid on special events. Please check before travel. \nTrain Times \n\n\n\nALSTON DEPART\n10:30\n13:00\n15:00\n\n\nKIRKHAUGH\n10:45\n13:15\n15:15\n\n\nLINTLEY\n10:53\n13:23\n15:23\n\n\nSLAGGYFORD ARRIVE\n11:05\n13:35\n15:35\n\n\n\n\n\n\n\n\nSLAGGYFORD DEPART\n11:30\n14:00\n16:00\n\n\nLINTLEY\n11:42\n14:12\n16:12\n\n\nKIRKHAUGH\n11:50\n14:20\n16:20\n\n\nALSTON ARRIVE\n12:05\n14:35\n16:35\n\n\n\nDog tickets\nDogs are welcome on all of our trains and travel free of charge. if you would like a dog ticket\, please collect one from the ticket office. \nBringing your Bicycle\nWe are happy to carry bicycles on the train where space allows.[ \nOur Terms and Conditions\nPlease click on the link for our Terms and conditions
URL:https://www.south-tynedale-railway.org.uk/event/wednesday-30-july-2025-15-00/
LOCATION:Alston\, The Railway Station\, Alston\, Cumbria\, CA9 3JB\, United Kingdom
CATEGORIES:Dinosaur Day,Special Service
ATTACH;FMTTYPE=image/jpeg:https://www.south-tynedale-railway.org.uk/wp-content/uploads/2025/07/2.jpg
END:VEVENT
END:VCALENDAR